BEGIN:VCALENDAR
VERSION:2.0
PRODID:-//Sholom Senior Living - ECPv6.15.20//NONSGML v1.0//EN
CALSCALE:GREGORIAN
METHOD:PUBLISH
X-WR-CALNAME:Sholom Senior Living
X-ORIGINAL-URL:https://www.sholom.com
X-WR-CALDESC:Events for Sholom Senior Living
REFRESH-INTERVAL;VALUE=DURATION:PT1H
X-Robots-Tag:noindex
X-PUBLISHED-TTL:PT1H
BEGIN:VTIMEZONE
TZID:America/New_York
BEGIN:DAYLIGHT
TZOFFSETFROM:-0500
TZOFFSETTO:-0400
TZNAME:EDT
DTSTART:20250309T070000
END:DAYLIGHT
BEGIN:STANDARD
TZOFFSETFROM:-0400
TZOFFSETTO:-0500
TZNAME:EST
DTSTART:20251102T060000
END:STANDARD
BEGIN:DAYLIGHT
TZOFFSETFROM:-0500
TZOFFSETTO:-0400
TZNAME:EDT
DTSTART:20260308T070000
END:DAYLIGHT
BEGIN:STANDARD
TZOFFSETFROM:-0400
TZOFFSETTO:-0500
TZNAME:EST
DTSTART:20261101T060000
END:STANDARD
BEGIN:DAYLIGHT
TZOFFSETFROM:-0500
TZOFFSETTO:-0400
TZNAME:EDT
DTSTART:20270314T070000
END:DAYLIGHT
BEGIN:STANDARD
TZOFFSETFROM:-0400
TZOFFSETTO:-0500
TZNAME:EST
DTSTART:20271107T060000
END:STANDARD
END:VTIMEZONE
BEGIN:VEVENT
DTSTART;TZID=America/New_York:20260420T114500
DTEND;TZID=America/New_York:20260420T130000
DTSTAMP:20260420T074805
CREATED:20260402T225522Z
LAST-MODIFIED:20260402T230420Z
UID:10000050-1776685500-1776690000@www.sholom.com
SUMMARY:Lunch & Learn: Finding Purpose in Later Life (JCC Capp Center Event)
DESCRIPTION:Purpose doesn’t retire—it evolves.\nJoin Sholom and the Minnesota JCC for a meaningful Lunch & Learn focused on finding purpose in later life. This engaging conversation will explore how volunteering\, mentoring\, and lifelong learning can bring renewed meaning\, connection\, and fulfillment. \nAt Sholom\, we believe that every stage of life holds opportunities to grow\, give\, and belong. During this session\, you’ll discover how staying engaged not only enriches your own life—but strengthens the entire community. \nTogether\, we’ll share: \n\nReal opportunities to volunteer and give back\nWays to stay socially\, intellectually\, and spiritually engaged\nHow purpose contributes to overall wellness and longevity\n\nWhether you’re exploring what’s next or looking to deepen your impact\, this conversation is for you. \nA free kosher lunch will be provided. All are welcome.\nRSVP by April 14: alilja@sholom.com | 651.328.2258
URL:https://www.sholom.com/event/lunch-learn-finding-purpose-in-later-life-jcc-capp-center-event/
LOCATION:JCC Capp Center St. Paul\, 1375 St. Paul Ave.\, St. Paul\, 55116\, United States
CATEGORIES:Community Event,Educational Event
ATTACH;FMTTYPE=image/png:https://www.sholom.com/wp-content/uploads/finding-purpose-in-later-life-event-Twin-Cities.png
END:VEVENT
END:VCALENDAR